BEGIN:VCALENDAR
VERSION:2.0
PRODID:-//Geekdom - ECPv6.15.20//NONSGML v1.0//EN
CALSCALE:GREGORIAN
METHOD:PUBLISH
X-ORIGINAL-URL:https://geekdom.com
X-WR-CALDESC:Events for Geekdom
REFRESH-INTERVAL;VALUE=DURATION:PT1H
X-Robots-Tag:noindex
X-PUBLISHED-TTL:PT1H
BEGIN:VTIMEZONE
TZID:America/Chicago
BEGIN:DAYLIGHT
TZOFFSETFROM:-0600
TZOFFSETTO:-0500
TZNAME:CDT
DTSTART:20220313T080000
END:DAYLIGHT
BEGIN:STANDARD
TZOFFSETFROM:-0500
TZOFFSETTO:-0600
TZNAME:CST
DTSTART:20221106T070000
END:STANDARD
BEGIN:DAYLIGHT
TZOFFSETFROM:-0600
TZOFFSETTO:-0500
TZNAME:CDT
DTSTART:20230312T080000
END:DAYLIGHT
BEGIN:STANDARD
TZOFFSETFROM:-0500
TZOFFSETTO:-0600
TZNAME:CST
DTSTART:20231105T070000
END:STANDARD
BEGIN:DAYLIGHT
TZOFFSETFROM:-0600
TZOFFSETTO:-0500
TZNAME:CDT
DTSTART:20240310T080000
END:DAYLIGHT
BEGIN:STANDARD
TZOFFSETFROM:-0500
TZOFFSETTO:-0600
TZNAME:CST
DTSTART:20241103T070000
END:STANDARD
END:VTIMEZONE
BEGIN:VEVENT
DTSTART;TZID=America/Chicago:20230502T193000
DTEND;TZID=America/Chicago:20230502T213000
DTSTAMP:20260419T090212
CREATED:20230405T003535Z
LAST-MODIFIED:20230405T003614Z
UID:4426-1683055800-1683063000@geekdom.com
SUMMARY:Unleashing the Power of AI for Your Business: A Marketing Workshop
DESCRIPTION:Join us for an exciting workshop on “Unleashing the Power of AI in Marketing”! \nDiscover how you can use AI to take your marketing efforts to the next level\, plus save tons of time and effort in the process! eCommerce industry expert Amy Wees will demonstrate how you can use AI to streamline your marketing efforts\, increase your ROI\, and stay ahead of the competition.  \nDuring this workshop\, we’ll explore real-world examples of how AI is being used in marketing\, and we’ll share practical tips and strategies on how you can incorporate these tools into your own business. You’ll leave with a better understanding of how AI works and how it can be used to enhance your marketing efforts. Don’t miss out on this valuable opportunity to gain a competitive edge in your industry. Sign up now and take the first step towards unleashing the power of AI for your business! \nHappening Tuesday\, May 2nd from 6:30-8:30 on the 8th floor of Geekdom in the .html office. Free parking after 5pm in San Antonio City lots and street parking.
URL:https://geekdom.com/event/unleashing-the-power-of-ai-for-your-business-a-marketing-workshop/
LOCATION:Geekdom\, 110 E Houston St.\, San Antonio\, TX\, 78205\, United States
ATTACH;FMTTYPE=image/png:https://geekdom.com/wp-content/uploads/2023/04/AI-Marketing-Workshop-3.png
END:VEVENT
END:VCALENDAR