BEGIN:VCALENDAR
VERSION:2.0
PRODID:-//Geekdom - ECPv6.15.20//NONSGML v1.0//EN
CALSCALE:GREGORIAN
METHOD:PUBLISH
X-ORIGINAL-URL:https://geekdom.com
X-WR-CALDESC:Events for Geekdom
REFRESH-INTERVAL;VALUE=DURATION:PT1H
X-Robots-Tag:noindex
X-PUBLISHED-TTL:PT1H
BEGIN:VTIMEZONE
TZID:America/Chicago
BEGIN:DAYLIGHT
TZOFFSETFROM:-0600
TZOFFSETTO:-0500
TZNAME:CDT
DTSTART:20230312T080000
END:DAYLIGHT
BEGIN:STANDARD
TZOFFSETFROM:-0500
TZOFFSETTO:-0600
TZNAME:CST
DTSTART:20231105T070000
END:STANDARD
BEGIN:DAYLIGHT
TZOFFSETFROM:-0600
TZOFFSETTO:-0500
TZNAME:CDT
DTSTART:20240310T080000
END:DAYLIGHT
BEGIN:STANDARD
TZOFFSETFROM:-0500
TZOFFSETTO:-0600
TZNAME:CST
DTSTART:20241103T070000
END:STANDARD
BEGIN:DAYLIGHT
TZOFFSETFROM:-0600
TZOFFSETTO:-0500
TZNAME:CDT
DTSTART:20250309T080000
END:DAYLIGHT
BEGIN:STANDARD
TZOFFSETFROM:-0500
TZOFFSETTO:-0600
TZNAME:CST
DTSTART:20251102T070000
END:STANDARD
END:VTIMEZONE
BEGIN:VEVENT
DTSTART;TZID=America/Chicago:20240221T120000
DTEND;TZID=America/Chicago:20240221T130000
DTSTAMP:20260421T112118
CREATED:20240202T231705Z
LAST-MODIFIED:20240202T231705Z
UID:5011-1708516800-1708520400@geekdom.com
SUMMARY:Marketing Strategy for Startups
DESCRIPTION:Marketing Strategy for Startups \nMarketing would be easy if we could all just buy a few billboards and a super bowl ad\, and watch the money roll in. Unfortunately\, that’s not how things work in startup-land\, where early stage companies are trying to hit ambitious growth targets with very limited resources. \nIn this session\, Franklin will discuss how founders and early teams should think about allocating their marketing dollars and effort for the biggest possible impact. How much time should you put into Instagram and Tik-Tok? What about ads\, events and outbound marketing? How does your competitive landscape and market dynamics figure into all of this? \nFranklin will give you a framework for how to think about where your startup should place its marketing “bets” to help you acquire new customers at the right cost. \nFranklin Morris is Vice President and Head of Global Marketing at Alloy.ai.
URL:https://geekdom.com/event/marketing-strategy-for-startups/
LOCATION:Geekdom\, 110 E Houston St.\, San Antonio\, TX\, 78205\, United States
ORGANIZER;CN="Geekdom Staff":MAILTO:info@geekdom.com
END:VEVENT
END:VCALENDAR