BEGIN:VCALENDAR
VERSION:2.0
PRODID:-//Geekdom - ECPv6.15.20//NONSGML v1.0//EN
CALSCALE:GREGORIAN
METHOD:PUBLISH
X-WR-CALNAME:Geekdom
X-ORIGINAL-URL:https://geekdom.com
X-WR-CALDESC:Events for Geekdom
REFRESH-INTERVAL;VALUE=DURATION:PT1H
X-Robots-Tag:noindex
X-PUBLISHED-TTL:PT1H
BEGIN:VTIMEZONE
TZID:America/Chicago
BEGIN:DAYLIGHT
TZOFFSETFROM:-0600
TZOFFSETTO:-0500
TZNAME:CDT
DTSTART:20230312T080000
END:DAYLIGHT
BEGIN:STANDARD
TZOFFSETFROM:-0500
TZOFFSETTO:-0600
TZNAME:CST
DTSTART:20231105T070000
END:STANDARD
BEGIN:DAYLIGHT
TZOFFSETFROM:-0600
TZOFFSETTO:-0500
TZNAME:CDT
DTSTART:20240310T080000
END:DAYLIGHT
BEGIN:STANDARD
TZOFFSETFROM:-0500
TZOFFSETTO:-0600
TZNAME:CST
DTSTART:20241103T070000
END:STANDARD
BEGIN:DAYLIGHT
TZOFFSETFROM:-0600
TZOFFSETTO:-0500
TZNAME:CDT
DTSTART:20250309T080000
END:DAYLIGHT
BEGIN:STANDARD
TZOFFSETFROM:-0500
TZOFFSETTO:-0600
TZNAME:CST
DTSTART:20251102T070000
END:STANDARD
END:VTIMEZONE
BEGIN:VEVENT
DTSTART;TZID=America/Chicago:20240419T083000
DTEND;TZID=America/Chicago:20240419T100000
DTSTAMP:20260420T043104
CREATED:20240401T111552Z
LAST-MODIFIED:20240401T111552Z
UID:5083-1713515400-1713520800@geekdom.com
SUMMARY:Women Founders Network: Banking Strategies
DESCRIPTION:Join us for our next empowering session in the Women Founders Network series\, where we’ll delve into the world of financing do’s and don’ts and banking strategies to fuel your entrepreneurial journey. Whether you’re seeking investment or a loan\, you won’t want to miss this. \nEvent Highlights: \n\nBanking Insights: Hear from industry experts\, including a representative from Bank of San Antonio\, our premier sponsor of Women Founders Network\, and Alma Valdez Brown from Lift Fund\, as they share invaluable insights and strategies to optimize your banking relationships.\nPersonal Financing Guidance: Learn the do’s and don’ts of personal financing\, including navigating credit cards\, loans\, and bootstrapping techniques.\nUnderstanding Terminology: Demystify financial terminology and gain a deeper understanding of key concepts to empower informed decision-making.\nFunding Options: Explore different types of funding\, from loans to bootstrapping\, and determine the best approach for your business needs.\nQ&A Session: Get your burning questions answered directly by our expert panel\, ensuring you leave with actionable takeaways to elevate your personal and business finances.\n\nWhether you’re a seasoned entrepreneur or just starting your journey\, this event is designed to equip you with the knowledge and resources you need to thrive in the world of business. \nDate: Friday\, April 19th \nTime: 8:30am – 10:00am \nLocation: 131 Soledad St\, San Antonio\, TX 78205 \nRSVP: Reserve your spot today and add to your calendar with the link below to unlock the secrets of financing success! \nThis event is part of our ongoing commitment to empowering women founders\, providing you with the tools and support needed to achieve your entrepreneurial dreams. Don’t miss out on this opportunity to level up your personal financing strategies and propel your business forward! \n—– \nInterested in pitching during San Antonio Startup Week for $25\,000? \nWe’re hosting a Women Founders Network Only Pitch Competition – join us in-person to learn more about how to participate. \n\n\n\n\n\n\n\n\n\n\n\n\n\n\n\n\n\nJoin us\, connect\, and thrive together!
URL:https://geekdom.com/event/women-founders-network-banking-strategies/
LOCATION:Geekdom Event Centre\, 131 Soledad Street\, San Antonio\, TX\, 78205\, San Antonio\, TX\, 78205\, United States
ATTACH;FMTTYPE=image/png:https://geekdom.com/wp-content/uploads/2024/04/April-2024-Eventbrite-1.png
ORGANIZER;CN="Geekdom Staff":MAILTO:info@geekdom.com
END:VEVENT
BEGIN:VEVENT
DTSTART;TZID=America/Chicago:20240419T180000
DTEND;TZID=America/Chicago:20240421T180000
DTSTAMP:20260420T043104
CREATED:20240401T210640Z
LAST-MODIFIED:20240405T210358Z
UID:5086-1713549600-1713722400@geekdom.com
SUMMARY:Geekdom Startup Bootcamp @ Texas A&M San Antonio
DESCRIPTION:Join us for our Startup Bootcamp! Hosted monthly and sponsored by Bexar County. (April will be Hosted at Texas A&M San Antonio) \nDesigned to help aspiring entrepreneurs\, this weekend program offers a collaborative learning experience to help entrepreneurs get the foundation they need for launching their companies. From mastering the Lean Canvas to crafting a compelling Elevator Pitch and creating an impactful Pitch Deck\, we cover it all! \nWith expert guidance and the support of our mentors throughout the weekend\, attendees will leave equipped with a solid game plan for their startup. \nDon’t miss this opportunity to kickstart your entrepreneurial journey at Startup Bootcamp! \nStartup Bootcamp Schedule\nFriday – Day 1 \n\n6:00pm – Dinner & Networking\n6:30pm – Welcome & Kickoff!\n7:00pm – Elevator Pitch Workshop\n8:30pm – Wrap Up\n\nSaturday – Day 2 \n\n9:30am – Breakfast & Networking\n10:00am – Kickoff + Participant Elevator Pitches\n10:30am – Lean Canvas Lab\n1:00pm – Working Lunch\n2:00pm – Talking to Humans Workshop\n3:00pm – Mentorship\n5:00pm – Wrap Up\n\nSunday – Day 3 \n\n9:30am – Breakfast & Networking\n10:00am – Kickoff + Participant Elevator Pitches\n10:30am – Crash Course in Pitching Workshop\n12:30pm – Working Lunch\n2:00pm – Pitch Practice Breakouts\n3:00pm – Mentorship\n5:00pm – Wrap Up + Thank You!\n\nAdditional information will be sent upon registration.
URL:https://geekdom.com/event/geekdom-startup-bootcamp-texasam-san-antonio/
LOCATION:Texas A&M San Antonio\, Texas A&M University – San Antonio One University Way\, Central Academic Building (CAB)\, San Antonio\, TX\, 78224
END:VEVENT
END:VCALENDAR