BEGIN:VCALENDAR
VERSION:2.0
PRODID:-//Geekdom - ECPv6.15.20//NONSGML v1.0//EN
CALSCALE:GREGORIAN
METHOD:PUBLISH
X-ORIGINAL-URL:https://geekdom.com
X-WR-CALDESC:Events for Geekdom
REFRESH-INTERVAL;VALUE=DURATION:PT1H
X-Robots-Tag:noindex
X-PUBLISHED-TTL:PT1H
BEGIN:VTIMEZONE
TZID:America/Chicago
BEGIN:DAYLIGHT
TZOFFSETFROM:-0600
TZOFFSETTO:-0500
TZNAME:CDT
DTSTART:20230312T080000
END:DAYLIGHT
BEGIN:STANDARD
TZOFFSETFROM:-0500
TZOFFSETTO:-0600
TZNAME:CST
DTSTART:20231105T070000
END:STANDARD
BEGIN:DAYLIGHT
TZOFFSETFROM:-0600
TZOFFSETTO:-0500
TZNAME:CDT
DTSTART:20240310T080000
END:DAYLIGHT
BEGIN:STANDARD
TZOFFSETFROM:-0500
TZOFFSETTO:-0600
TZNAME:CST
DTSTART:20241103T070000
END:STANDARD
BEGIN:DAYLIGHT
TZOFFSETFROM:-0600
TZOFFSETTO:-0500
TZNAME:CDT
DTSTART:20250309T080000
END:DAYLIGHT
BEGIN:STANDARD
TZOFFSETFROM:-0500
TZOFFSETTO:-0600
TZNAME:CST
DTSTART:20251102T070000
END:STANDARD
END:VTIMEZONE
BEGIN:VEVENT
DTSTART;TZID=America/Chicago:20240424T120000
DTEND;TZID=America/Chicago:20240424T130000
DTSTAMP:20260421T070047
CREATED:20240408T163318Z
LAST-MODIFIED:20240418T183646Z
UID:5109-1713960000-1713963600@geekdom.com
SUMMARY:Entrepreneurship through Acquisition: Solving the Global Succession Crisis
DESCRIPTION:Entrepreneurship through Acquisition: Solving the Global Succession Crisis \nJoin us for another wonderful workshop Wednesday hosted by Geekom’s very own mentor\, Ron Ondechek! \nTime: 12:00 PM – 1:00 PM \nDate: Wednesdy\, April 24th\, 2024 \nLocation: Geekdom Core Classroom (110 E Houston St\, 6th Floor) \nDescription: \nSuccession in the low mid-market is a $2.5B per day problem worldwide. Entrepreneurship through Acquisition (EtA) is an established and quickly becoming one of the most popular solutions to this global crisis. In this presentation\, we will review the history of EtA\, understand how it works\, and what EtA means in the future for investors\, entrepreneurs\, and trusted advisors. \nSpeaker Bio: \nRon Ondechek specializes in private equity with a knack for exclusive deals\, turnarounds\, and tech growth. His experience covers over 15 years in VC/PE\, banking\, and an entrepreneur\, leading 100+ transactions worth $1B. Starting his career at ExxonMobil\, he progressed through roles at AG Edwards\, Altira Group\, and managed Louisiana’s first oversubscribed angel fund. Ron has been on the boards of 20 companies\, including Fluence Analytics. A first-gen college grad\, he holds a BS from Penn State and an MBA from Tulane University\, where he also co-founded a significant business competition.
URL:https://geekdom.com/event/entrepreneurship-through-acquisition-solving-the-global-succession-crisis/
LOCATION:Geekdom Core Classroom\, 110 E Houston St\, 6th Floor Core Classroom\, San Antonio\, TX\, 78205\, United States
ORGANIZER;CN="Geekdom Staff":MAILTO:info@geekdom.com
END:VEVENT
END:VCALENDAR