BEGIN:VCALENDAR
VERSION:2.0
PRODID:-//Geekdom - ECPv6.15.20//NONSGML v1.0//EN
CALSCALE:GREGORIAN
METHOD:PUBLISH
X-WR-CALNAME:Geekdom
X-ORIGINAL-URL:https://geekdom.com
X-WR-CALDESC:Events for Geekdom
REFRESH-INTERVAL;VALUE=DURATION:PT1H
X-Robots-Tag:noindex
X-PUBLISHED-TTL:PT1H
BEGIN:VTIMEZONE
TZID:America/Chicago
BEGIN:DAYLIGHT
TZOFFSETFROM:-0600
TZOFFSETTO:-0500
TZNAME:CDT
DTSTART:20240310T080000
END:DAYLIGHT
BEGIN:STANDARD
TZOFFSETFROM:-0500
TZOFFSETTO:-0600
TZNAME:CST
DTSTART:20241103T070000
END:STANDARD
BEGIN:DAYLIGHT
TZOFFSETFROM:-0600
TZOFFSETTO:-0500
TZNAME:CDT
DTSTART:20250309T080000
END:DAYLIGHT
BEGIN:STANDARD
TZOFFSETFROM:-0500
TZOFFSETTO:-0600
TZNAME:CST
DTSTART:20251102T070000
END:STANDARD
BEGIN:DAYLIGHT
TZOFFSETFROM:-0600
TZOFFSETTO:-0500
TZNAME:CDT
DTSTART:20260308T080000
END:DAYLIGHT
BEGIN:STANDARD
TZOFFSETFROM:-0500
TZOFFSETTO:-0600
TZNAME:CST
DTSTART:20261101T070000
END:STANDARD
END:VTIMEZONE
BEGIN:VEVENT
DTSTART;TZID=America/Chicago:20250424T083000
DTEND;TZID=America/Chicago:20250424T103000
DTSTAMP:20260421T113851
CREATED:20250225T212022Z
LAST-MODIFIED:20250423T180057Z
UID:5458-1745483400-1745490600@geekdom.com
SUMMARY:Women Founders Network : Financial Literacy for Growth
DESCRIPTION:Master your finances to scale\, secure funding\, and build lasting business success!\n\n\nWomen Founders Network: Financial Literacy for Growth\n \nFinancial literacy is a crucial skill for entrepreneurs and small business owners looking to scale\, secure funding\, and build long-term success. \nJoin us at the Geekdom Event Centre on April 25th for an insightful Women Founders Network workshop focused on mastering financial strategies for business growth. \n \nWhat to Expect:\n\nFounder Insights: Hear from experienced profesionals on navigating financial challenges and securing funding.\nFinancial Strategies: Gain actionable tips on budgeting\, cash flow management\, and sustainable financial planning.\nGrowth Mindset: Learn how a strong financial foundation can open new opportunities and drive business success.\n\nUnderstanding your finances is key to making informed decisions\, growing your business\, and ensuring long-term stability. This workshop will provide the tools and knowledge to help you take control of your financial future and scale with confidence. \nMore updates on speakers and the agenda coming soon. \n📍 Location: Geekdom Event Centre🗓️ Date & Time: April 25\, 8:30 AM – 10:00 AM \n \n—– \n📣 Interested in pitching during San Antonio Startup Week in October for $25\,000? \nJoin us in-person to learn more about how to partcipate in the exclusive Women Founders Network Only Pitch Competition.
URL:https://geekdom.com/event/women-founders-network-financial-literacy-for-growth/
LOCATION:Geekdom Event Centre\, 131 Soledad Street\, San Antonio\, TX 78205\, San Antonio\, TX\, 78205\, US
ATTACH;FMTTYPE=image/jpeg:https://geekdom.com/wp-content/uploads/2025/02/5458_image.jpg
END:VEVENT
END:VCALENDAR