BEGIN:VCALENDAR
VERSION:2.0
PRODID:-//Geekdom - ECPv6.15.20//NONSGML v1.0//EN
CALSCALE:GREGORIAN
METHOD:PUBLISH
X-WR-CALNAME:Geekdom
X-ORIGINAL-URL:https://geekdom.com
X-WR-CALDESC:Events for Geekdom
REFRESH-INTERVAL;VALUE=DURATION:PT1H
X-Robots-Tag:noindex
X-PUBLISHED-TTL:PT1H
BEGIN:VTIMEZONE
TZID:America/Chicago
BEGIN:DAYLIGHT
TZOFFSETFROM:-0600
TZOFFSETTO:-0500
TZNAME:CDT
DTSTART:20240310T080000
END:DAYLIGHT
BEGIN:STANDARD
TZOFFSETFROM:-0500
TZOFFSETTO:-0600
TZNAME:CST
DTSTART:20241103T070000
END:STANDARD
BEGIN:DAYLIGHT
TZOFFSETFROM:-0600
TZOFFSETTO:-0500
TZNAME:CDT
DTSTART:20250309T080000
END:DAYLIGHT
BEGIN:STANDARD
TZOFFSETFROM:-0500
TZOFFSETTO:-0600
TZNAME:CST
DTSTART:20251102T070000
END:STANDARD
BEGIN:DAYLIGHT
TZOFFSETFROM:-0600
TZOFFSETTO:-0500
TZNAME:CDT
DTSTART:20260308T080000
END:DAYLIGHT
BEGIN:STANDARD
TZOFFSETFROM:-0500
TZOFFSETTO:-0600
TZNAME:CST
DTSTART:20261101T070000
END:STANDARD
END:VTIMEZONE
BEGIN:VEVENT
DTSTART;TZID=America/Chicago:20250627T110000
DTEND;TZID=America/Chicago:20250627T130000
DTSTAMP:20260423T103333
CREATED:20250610T142805Z
LAST-MODIFIED:20250610T142805Z
UID:5612-1751022000-1751029200@geekdom.com
SUMMARY:Women Founders Network: Funding & Resource Fair
DESCRIPTION:Attendees can explore resources and services available to help them launch in an exhibit style setup with vendors!\n\n\nFunding & Resource Fair for Women Founders \nEvent Overview:This two-hour funding and resource fair\, is a come-and-go event\, will be held in the heart of downtown at Launch SA. \nCome cool off\, enjoy lunch and network with other business owners while making meaningful connections with potential investors and financial industry leaders! \nWhy Attend? \n\nDiscover funding opportunities.\nGain access to a wealth of knowledge and expertise from industry experts.\nBuild a strong network of like-minded women entrepreneurs and potential mentors.\nFind resources and support to help you at every stage of your entrepreneurial journey.\nAttendees can explore resources and services available to help them launch\, grow\, and scale their businesses.\n\n \nRSVP: Secure your spot today and be part of this incredible opportunity to empower your business and connect with a community dedicated to your success! \n \n📍 Location: Launch SA\, 600 Soledad St🗓️ Date & Time: June 27\, 11:00 AM – 1:00 PM \n🚗Parking: Free 3 HR Parking \n—– \n📣 Interested in pitching during San Antonio Startup Week in October? \nJoin us in-person to learn more about how to participate in the exclusive Women Founders Network Only Pitch Competition.
URL:https://geekdom.com/event/women-founders-network-funding-resource-fair/
LOCATION:Launch SA\, 600 Soledad Street #1st Floor\, San Antonio\, TX 78205\, San Antonio\, TX\, 78205\, US
ATTACH;FMTTYPE=image/png:https://geekdom.com/wp-content/uploads/2025/06/5612_image.png
END:VEVENT
BEGIN:VEVENT
DTSTART;TZID=America/Chicago:20250627T180000
DTEND;TZID=America/Chicago:20250629T180000
DTSTAMP:20260423T103333
CREATED:20250107T152037Z
LAST-MODIFIED:20250107T152037Z
UID:5355-1751047200-1751220000@geekdom.com
SUMMARY:Startup Bootcamp -June 2025
DESCRIPTION:Join us for Geekdom’s 3-day Startup Weekend!\n\n\nJoin us for our monthly weekend event\, Startup Bootcamp! \n \nDesigned to help aspiring entrepreneurs\, this weekend program offers a collaborative learning experience to help entrepreneurs get the foundation they need for launching their companies. From mastering the Lean Canvas to crafting a compelling Elevator Pitch and creating an impactful Pitch Deck\, we cover it all! \nWith expert guidance and mentorship support throughout the weekend\, attendees will leave equipped with a solid game plan for their startup. \n \nDon’t miss this opportunity to kickstart your entrepreneurial journey at Startup Bootcamp! \n \nStartup Bootcamp Schedule\nFriday – Day 1 \n\n6:00pm – Dinner & Networking\n6:30pm – Welcome & Kickoff!\n7:00pm – Elevator Pitch Workshop\n8:30pm – Wrap Up\n\n \nSaturday – Day 2 \n\n9:30am – Breakfast & Networking\n10:00am – Kickoff + Participant Elevator Pitches\n10:30am – Lean Canvas Lab\n1:00pm – Working Lunch\n2:00pm – Talking to Humans Workshop\n3:00pm – Mentorship\n5:00pm – Wrap Up\n\n \nSunday – Day 3 \n\n9:30am – Breakfast & Networking\n10:00am – Kickoff + Participant Elevator Pitches\n10:30am – Crash Course in Pitching Workshop\n12:30pm – Working Lunch\n2:00pm – Pitch Practice Breakouts\n3:00pm – Mentorship\n5:00pm – Wrap Up + Thank You!\n\n \nUpon registration we will provide more details about the event.
URL:https://geekdom.com/event/startup-bootcamp-june-2025/
LOCATION:110 E Houston St 7th floor\, 110 East Houston Street #7th floor\, San Antonio\, TX 78205\, San Antonio\, TX\, 78205\, US
ATTACH;FMTTYPE=image/png:https://geekdom.com/wp-content/uploads/2025/01/5355_image.png
END:VEVENT
END:VCALENDAR