BEGIN:VCALENDAR
VERSION:2.0
PRODID:-//Geekdom - ECPv6.15.20//NONSGML v1.0//EN
CALSCALE:GREGORIAN
METHOD:PUBLISH
X-ORIGINAL-URL:https://geekdom.com
X-WR-CALDESC:Events for Geekdom
REFRESH-INTERVAL;VALUE=DURATION:PT1H
X-Robots-Tag:noindex
X-PUBLISHED-TTL:PT1H
BEGIN:VTIMEZONE
TZID:America/Chicago
BEGIN:DAYLIGHT
TZOFFSETFROM:-0600
TZOFFSETTO:-0500
TZNAME:CDT
DTSTART:20210314T080000
END:DAYLIGHT
BEGIN:STANDARD
TZOFFSETFROM:-0500
TZOFFSETTO:-0600
TZNAME:CST
DTSTART:20211107T070000
END:STANDARD
BEGIN:DAYLIGHT
TZOFFSETFROM:-0600
TZOFFSETTO:-0500
TZNAME:CDT
DTSTART:20220313T080000
END:DAYLIGHT
BEGIN:STANDARD
TZOFFSETFROM:-0500
TZOFFSETTO:-0600
TZNAME:CST
DTSTART:20221106T070000
END:STANDARD
BEGIN:DAYLIGHT
TZOFFSETFROM:-0600
TZOFFSETTO:-0500
TZNAME:CDT
DTSTART:20230312T080000
END:DAYLIGHT
BEGIN:STANDARD
TZOFFSETFROM:-0500
TZOFFSETTO:-0600
TZNAME:CST
DTSTART:20231105T070000
END:STANDARD
END:VTIMEZONE
BEGIN:VEVENT
DTSTART;VALUE=DATE:20221107
DTEND;VALUE=DATE:20221212
DTSTAMP:20260420T074844
CREATED:20221107T202823Z
LAST-MODIFIED:20221107T202823Z
UID:4121-1667779200-1670803199@geekdom.com
SUMMARY:Geekdom Incubator Applications OPEN!
DESCRIPTION:The Geekdom Incubator is an 8-week program designed to help first-time founders and early-stage entrepreneurs refine their startup ideas\, learn business basics\, build their network\, and take the first steps towards traction. \n\n\n\n\n\n\nApplications are open until December 11th.\n\n\n\nMore details: https://geekdom.com/our-programs/geekdom-incubator/
URL:https://geekdom.com/event/geekdom-incubator-applications-open/
END:VEVENT
BEGIN:VEVENT
DTSTART;TZID=America/Chicago:20221201T120000
DTEND;TZID=America/Chicago:20221201T130000
DTSTAMP:20260420T074844
CREATED:20221121T215109Z
LAST-MODIFIED:20221121T215109Z
UID:4141-1669896000-1669899600@geekdom.com
SUMMARY:Wellness Lunch & Learn
DESCRIPTION:Now more than ever employers are looking for low cost no cost options to provide wellness programs for their employees. The research is clear\, as little as 13 minutes meditating a day will improve your focus\, ability to concentrate\, relax\, let go of what doesn’t serve you\, and in the end be happier. Who doesn’t want all of that?
URL:https://geekdom.com/event/wellness-lunch-learn/
END:VEVENT
BEGIN:VEVENT
DTSTART;TZID=America/Chicago:20221202T090000
DTEND;TZID=America/Chicago:20221202T180000
DTSTAMP:20260420T074844
CREATED:20221121T231354Z
LAST-MODIFIED:20221121T231354Z
UID:4144-1669971600-1670004000@geekdom.com
SUMMARY:Geekdom First Friday
DESCRIPTION:Come work with us for a day! \n9:00 am: Doors Open for free coworking \n12:00-1:00 pm: Complimentary Community Lunch \n4:00-6:00pm: Holiday Happy Hour \nGuided Tours will be available at 12pm\, 1pm\, 3pm\, and 5:30pm \nValidated Parking Available for the Rand Garage. Please check in on the 7th floor upon arrival.
URL:https://geekdom.com/event/geekdom-first-friday/
LOCATION:Geekdom\, 110 E Houston St.\, San Antonio\, TX\, 78205\, United States
ORGANIZER;CN="Geekdom Staff":MAILTO:info@geekdom.com
END:VEVENT
BEGIN:VEVENT
DTSTART;TZID=America/Chicago:20221202T180000
DTEND;TZID=America/Chicago:20221204T193000
DTSTAMP:20260420T074844
CREATED:20221103T211516Z
LAST-MODIFIED:20221103T211516Z
UID:3908-1670004000-1670182200@geekdom.com
SUMMARY:Startup Bootcamp
DESCRIPTION:Startup Bootcamp is an exciting way to be immersed into the world of startups. Over the course of this weekend you’ll meet the best mentors\, partners\, investors\, co-founders and supporters of your new business to get things done faster. \nStartup Bootcamp is program hosted by Geekdom built for helping new and first time entrepreneurs get the foundation they need for launching their new business. \nBy the end of the weekend\, you will have a pitch deck put together for your business and the support you need to get your business launched!
URL:https://geekdom.com/event/startup-bootcamp/
LOCATION:Geekdom\, 110 E Houston St.\, San Antonio\, TX\, 78205\, United States
END:VEVENT
BEGIN:VEVENT
DTSTART;TZID=America/Chicago:20220706T180000
DTEND;TZID=America/Chicago:20220706T200000
DTSTAMP:20260420T074844
CREATED:20220624T205812Z
LAST-MODIFIED:20220628T143539Z
UID:3505-1657130400-1657137600@geekdom.com
SUMMARY:Geeks and Drinks
DESCRIPTION:To all you Geeks! This is a monthly opportunity for programmers\, developers and web techies in the San Antonio area to get out and socialize! No formal agenda\, let’s talk about your current projects\, coding issues\, wins and anything else! \nThe event will be hosted at different location around San Antonio on the first Wednesday of every month. The event will be hosted in person as long as it is safe to do so. \nThis is event is brought to you Geekdom and Pretty Simple Tech LLC. Hope to see you there
URL:https://geekdom.com/event/geeks-and-drinks/
ATTACH;FMTTYPE=image/png:https://geekdom.com/wp-content/uploads/2022/06/GEEKS-DRINKS-DEV-MEETUP.png
END:VEVENT
BEGIN:VEVENT
DTSTART;TZID=America/Chicago:20221213T170000
DTEND;TZID=America/Chicago:20221213T190000
DTSTAMP:20260420T074844
CREATED:20221117T161901Z
LAST-MODIFIED:20221117T161901Z
UID:4139-1670950800-1670958000@geekdom.com
SUMMARY:Women Founder Holiday Happy Hour
DESCRIPTION:Join Beam and Geekdom for our final women power hour of 2022: holiday themed! Connect with other women entrepreneurs and tech professionals\, grab a free professional headshot\, enjoy festive bites & beverages\, and explore Centro’s Holidays on Houston Street Pop-up shops. \nKailey DeLuca\, Centro‘s Main Street Navigator\, will tell us more about the retail incubator and pop-up experience in downtown San Antonio\, and highlight the women behind the businesses before we all walk over to the shops. \nStick around downtown for more holiday funtivities like exploring the Riverwalk holiday lights\, or skating at the Rotary Rink in Travis Park ❄️ \nA special thank you to Geekdom for their partnership and making this night possible and to all our Beam sponsors\, including: H-E-B\, 80/20 Foundation\, Texas Partners Bank\, and Arm Creative. \nPARKING: Free parking can be found at city meters and parking garages as part of their Downtown Tuesdays program. Validation for the Rand Parking Garage (129 Soledad St\, San Antonio\, TX) will also be provided.
URL:https://geekdom.com/event/women-founder-holiday-happy-hour/
LOCATION:Geekdom Event Centre\, 131 Soledad Street\, San Antonio\, TX\, 78205\, San Antonio\, TX\, 78205\, United States
END:VEVENT
BEGIN:VEVENT
DTSTART;TZID=America/Chicago:20221213T190000
DTEND;TZID=America/Chicago:20221213T200000
DTSTAMP:20260420T074844
CREATED:20221208T190945Z
LAST-MODIFIED:20221208T190945Z
UID:4180-1670958000-1670961600@geekdom.com
SUMMARY:Q4 2022 Community Fund Final Pitches
DESCRIPTION:Tune in to watch the five finalists of the Q4 Geekdom Community Fund: \nThe Dog Guide \nHertizan \nHydrotek \nMVP Vibe \nZeus Card \nFind out which of these Geekdom community startups takes home the $25\,000 investment! \nThank you to Iris Gonzalez from Startups San Antonio\, Elizabeth Reiser from White Cloud Media\, and Ben Jones (Entrepreneur in Residence at Geekdom) \nSpecial thanks to White Cloud Media Group for the always amazing video production!
URL:https://geekdom.com/event/q4-2022-community-fund-final-pitches/
LOCATION:Online
ORGANIZER;CN="Geekdom Staff":MAILTO:info@geekdom.com
END:VEVENT
BEGIN:VEVENT
DTSTART;TZID=America/Chicago:20221214T120000
DTEND;TZID=America/Chicago:20221214T130000
DTSTAMP:20260420T074844
CREATED:20221117T154959Z
LAST-MODIFIED:20221117T205902Z
UID:4136-1671019200-1671022800@geekdom.com
SUMMARY:Financials For Founders
DESCRIPTION:Understanding Financial Statements: Balance Sheets\, Income Statements and Cash Flow Statements \n  \nJoin Geekdom and Linda Loftus from Loftus Management Consulting\, LLC as we talk about what you should know about your finances as a startup. Happening at Geekdom in the basement classroom. Lunch will be provided.
URL:https://geekdom.com/event/financials-for-founders-2/
LOCATION:Geekdom\, 110 E Houston St.\, San Antonio\, TX\, 78205\, United States
ATTACH;FMTTYPE=image/png:https://geekdom.com/wp-content/uploads/2022/11/2022-Geekdom-Event-Template-9.png
END:VEVENT
BEGIN:VEVENT
DTSTART;TZID=America/Chicago:20221214T120000
DTEND;TZID=America/Chicago:20221214T130000
DTSTAMP:20260420T074844
CREATED:20221121T215312Z
LAST-MODIFIED:20221121T215312Z
UID:4143-1671019200-1671022800@geekdom.com
SUMMARY:Financials for Founders Lunch and Learn
DESCRIPTION:Join Geekdom and Linda Loftus from Loftus Management Consulting\, LLC as we talk about what you should know about your finances as a startup.
URL:https://geekdom.com/event/financials-for-founders-lunch-and-learn/
END:VEVENT
END:VCALENDAR