BEGIN:VCALENDAR
VERSION:2.0
PRODID:-//Geekdom - ECPv6.15.20//NONSGML v1.0//EN
CALSCALE:GREGORIAN
METHOD:PUBLISH
X-WR-CALNAME:Geekdom
X-ORIGINAL-URL:https://geekdom.com
X-WR-CALDESC:Events for Geekdom
REFRESH-INTERVAL;VALUE=DURATION:PT1H
X-Robots-Tag:noindex
X-PUBLISHED-TTL:PT1H
BEGIN:VTIMEZONE
TZID:America/Chicago
BEGIN:DAYLIGHT
TZOFFSETFROM:-0600
TZOFFSETTO:-0500
TZNAME:CDT
DTSTART:20220313T080000
END:DAYLIGHT
BEGIN:STANDARD
TZOFFSETFROM:-0500
TZOFFSETTO:-0600
TZNAME:CST
DTSTART:20221106T070000
END:STANDARD
BEGIN:DAYLIGHT
TZOFFSETFROM:-0600
TZOFFSETTO:-0500
TZNAME:CDT
DTSTART:20230312T080000
END:DAYLIGHT
BEGIN:STANDARD
TZOFFSETFROM:-0500
TZOFFSETTO:-0600
TZNAME:CST
DTSTART:20231105T070000
END:STANDARD
BEGIN:DAYLIGHT
TZOFFSETFROM:-0600
TZOFFSETTO:-0500
TZNAME:CDT
DTSTART:20240310T080000
END:DAYLIGHT
BEGIN:STANDARD
TZOFFSETFROM:-0500
TZOFFSETTO:-0600
TZNAME:CST
DTSTART:20241103T070000
END:STANDARD
END:VTIMEZONE
BEGIN:VEVENT
DTSTART;TZID=America/Chicago:20230301T180000
DTEND;TZID=America/Chicago:20230301T200000
DTSTAMP:20260422T092303
CREATED:20230301T211838Z
LAST-MODIFIED:20230519T070711Z
UID:4337-1677693600-1677700800@geekdom.com
SUMMARY:Geeks and Drinks
DESCRIPTION:To all you Geeks! This is a monthly opportunity for programmers\, developers and web techies in the San Antonio area to get out and socialize! No formal agenda\, let’s talk about your current projects\, coding issues\, wins and anything else! \nThe event will be hosted at different location around San Antonio on the first Wednesday of every month. \nThis is event is brought to you Geekdom and Pretty Simple Tech LLC. Hope to see you there
URL:https://geekdom.com/event/geeks-and-drinks-2/
ATTACH;FMTTYPE=image/png:https://geekdom.com/wp-content/uploads/2022/06/GEEKS-DRINKS-DEV-MEETUP.png
END:VEVENT
BEGIN:VEVENT
DTSTART;TZID=America/Chicago:20230412T190000
DTEND;TZID=America/Chicago:20230412T210000
DTSTAMP:20260422T092303
CREATED:20230404T165822Z
LAST-MODIFIED:20230405T005228Z
UID:4422-1681326000-1681333200@geekdom.com
SUMMARY:Creating Your First Pitch Deck
DESCRIPTION:Join us at Geekdom for an exciting and informative workshop on “Creating Your First Pitch Deck” hosted by Iris Gonzalez\, founder of StartupsSanAntonio.com. In this workshop\, you will learn about outlining your pitch deck\, tailoring your pitch to your target audience\, and an overview of building your first pitch deck. \nWhether you are a seasoned entrepreneur or just starting out\, this workshop is perfect for anyone who wants to take their startup to the next level. You will gain valuable insights on how to craft a pitch deck that is clear\, concise\, and effective in communicating your business idea to potential investors. \nThe workshop will take place on Wednesday\, April 12th from 6pm to 8pm on the 8th floor of Geekdom (110 E Houston) in the .html office. Don’t miss out on this opportunity to learn from one of San Antonio’s most respected startup experts. Register now to secure your spot!
URL:https://geekdom.com/event/creating-your-first-pitch-deck-2/
LOCATION:Geekdom\, 110 E Houston St.\, San Antonio\, TX\, 78205\, United States
ATTACH;FMTTYPE=image/png:https://geekdom.com/wp-content/uploads/2023/04/Pitch-Workshop-7.png
END:VEVENT
BEGIN:VEVENT
DTSTART;TZID=America/Chicago:20230421T093000
DTEND;TZID=America/Chicago:20230421T110000
DTSTAMP:20260422T092303
CREATED:20230412T190020Z
LAST-MODIFIED:20230511T200224Z
UID:4440-1682069400-1682074800@geekdom.com
SUMMARY:Women Founders Network: Empowering Women Entrepreneurs in Leadership
DESCRIPTION:Join us at this month’s Women Founders Network event featuring Jennifer Moriarty\, Principal and Founder of Moriarty Consulting group. This event is designed specifically for women entrepreneurs seeking to enhance their leadership skills and build lasting connections with like-minded individuals. Together\, we will learn tools and insights necessary to confidently navigate the challenges of entrepreneurship and building your team. Whether you are just starting out or looking to take your business to the next level\, this event is for you. Don’t miss this opportunity to connect with our community of fellow empowered women and take your leadership skills to new heights. \n\n\n\n\nREGISTER HERE
URL:https://geekdom.com/event/women-founders-network-empowering-women-entrepreneurs-in-leadership/
LOCATION:Geekdom Event Centre\, 131 Soledad Street\, San Antonio\, TX\, 78205\, San Antonio\, TX\, 78205\, United States
END:VEVENT
BEGIN:VEVENT
DTSTART;TZID=America/Chicago:20230421T190000
DTEND;TZID=America/Chicago:20230423T190000
DTSTAMP:20260422T092303
CREATED:20230323T144620Z
LAST-MODIFIED:20230511T200553Z
UID:4380-1682103600-1682276400@geekdom.com
SUMMARY:Startup Bootcamp - April
DESCRIPTION:Go from ideation to MVP over the course of a weekend with hands-on workshops and mentorship. \nStartup Bootcamp is a program hosted by Geekdom built for helping new and first time entrepreneurs get the foundation they need for launching their new business. \nBy the end of the weekend\, you will have a lean canvas and pitch deck put together for your business and the support you need to get your business launched!
URL:https://geekdom.com/event/startup-bootcamp-april/
LOCATION:Geekdom\, 110 E Houston St.\, San Antonio\, TX\, 78205\, United States
ATTACH;FMTTYPE=image/png:https://geekdom.com/wp-content/uploads/2023/03/Startup-Bootcamp-Event-1.png
END:VEVENT
BEGIN:VEVENT
DTSTART;TZID=America/Chicago:20230425T093000
DTEND;TZID=America/Chicago:20230425T210000
DTSTAMP:20260422T092303
CREATED:20230406T224914Z
LAST-MODIFIED:20230511T200109Z
UID:4436-1682415000-1682456400@geekdom.com
SUMMARY:San Antonio Startup Day
DESCRIPTION:What is San Antonio Startup Day? \nSan Antonio Startup Day is a full day of resources\, networking\, and expert-led talks to energize your entrepreneurial ambitions. You’ll have the opportunity to meet and learn from leaders in San Antonio’s startup ecosystem. Enjoy a full day of free coworking community at Geekdom as you explore the opportunities to grow in downtown SA. \nWho is San Antonio Startup Day for? \nAnyone interested in getting more involved in San Antonio’s entrepreneurial startup scene. Looking for resources to build your business\, connections to grow your network\, or inspiration to spark your next great idea? We’ve got you covered. \nWhen & where does San Antonio Startup day happen? \nThis event happens once a month at Geekdom. (Located at 110 E Houston St. San Antonio TX 78205.) Check in is located on the 8th floor. Sessions are located throughout the Geekdom community spaces and Event Centre.
URL:https://geekdom.com/event/san-antonio-startup-day-3/
ATTACH;FMTTYPE=image/png:https://geekdom.com/wp-content/uploads/2023/03/Geekdom-X-SASD_EventbriteBanner.png
END:VEVENT
END:VCALENDAR