BEGIN:VCALENDAR
VERSION:2.0
PRODID:-//Geekdom - ECPv6.15.20//NONSGML v1.0//EN
CALSCALE:GREGORIAN
METHOD:PUBLISH
X-WR-CALNAME:Geekdom
X-ORIGINAL-URL:https://geekdom.com
X-WR-CALDESC:Events for Geekdom
REFRESH-INTERVAL;VALUE=DURATION:PT1H
X-Robots-Tag:noindex
X-PUBLISHED-TTL:PT1H
BEGIN:VTIMEZONE
TZID:America/Chicago
BEGIN:DAYLIGHT
TZOFFSETFROM:-0600
TZOFFSETTO:-0500
TZNAME:CDT
DTSTART:20220313T080000
END:DAYLIGHT
BEGIN:STANDARD
TZOFFSETFROM:-0500
TZOFFSETTO:-0600
TZNAME:CST
DTSTART:20221106T070000
END:STANDARD
BEGIN:DAYLIGHT
TZOFFSETFROM:-0600
TZOFFSETTO:-0500
TZNAME:CDT
DTSTART:20230312T080000
END:DAYLIGHT
BEGIN:STANDARD
TZOFFSETFROM:-0500
TZOFFSETTO:-0600
TZNAME:CST
DTSTART:20231105T070000
END:STANDARD
BEGIN:DAYLIGHT
TZOFFSETFROM:-0600
TZOFFSETTO:-0500
TZNAME:CDT
DTSTART:20240310T080000
END:DAYLIGHT
BEGIN:STANDARD
TZOFFSETFROM:-0500
TZOFFSETTO:-0600
TZNAME:CST
DTSTART:20241103T070000
END:STANDARD
END:VTIMEZONE
BEGIN:VEVENT
DTSTART;TZID=America/Chicago:20230907T130000
DTEND;TZID=America/Chicago:20230907T140000
DTSTAMP:20260423T120623
CREATED:20230821T164004Z
LAST-MODIFIED:20230821T165107Z
UID:4701-1694091600-1694095200@geekdom.com
SUMMARY:Branding 101
DESCRIPTION:Zahra Cruzan\, Founder & Brand Strategist at Brand Author helps brands better identify and connect with their ideal audience and is a mentor in the Geekdom community.  \nThis workshop is designed to help you understand the fundamentals of branding and how you can leverage it to grow your market share and value.  \nZahra will cover how to apply your brand identity to all aspects of your brand from marketing to product development through strategy\, design and experience.  \nMeet us in the Founders Lounge on the 8th floor of Geekdom.
URL:https://geekdom.com/event/branding-101/
LOCATION:Geekdom\, 110 E Houston St.\, San Antonio\, TX\, 78205\, United States
ATTACH;FMTTYPE=image/png:https://geekdom.com/wp-content/uploads/2023/08/Workshops-Templates-Eventbrite-Size-5.png
END:VEVENT
END:VCALENDAR